BEGIN:VCALENDAR
VERSION:2.0
PRODID:Events Booking
BEGIN:VEVENT
UID:69e8fee2d9651
SUMMARY:Music and Party: Athelstan to Aldi
DESCRIPTION:Supermarine Music and Athelstan 1100 Proudly Present: Athelstan
  to Aldi 
 A Book Reading and Album Listening Party
  
 Supermarine M
 usic are excited to launch ‘Athelstan to Aldi’\; a collection of songs
  about the townsfolk of yesteryear by the townsfolk of today. 
  
 Loc
 al songwriters bring some of Malmesbury’s most colourful characters and 
 infamous incidents back to life. Through song\, You’ll hear the bones of
  the First King of England reanimated\, Elmer the Flying Monk’s broken w
 ings fixed\, ‘gangsta monk’ John Tintern return to town\, and Thomas H
 obbes’ Leviathan awaken. Original\, newly recorded tunes will transport 
 you through time to witness momentous events in Malmesbury’s long and re
 markable history. Events like the Abbey toilets getting running water\, th
 e day its spire fell over\, the civil war\, the witch trials\, and the ope
 ning of Aldi.
  
 Be the first to listen to the album and take a musica
 l journey through Malmesbury’s history. Plus the event debut of Athelsta
 n Ale!
  
 Athelstan 1100 is proud that this priceless event is free to
  attend. Admittance by ticket only. Register now. 7:30pm for 8:00pm. Donat
 ions to Athelstan 1100 will be welcomed.
LOCATION:Cross Hayes\, Malmesbury\, SN16 9BZ
DTSTART:20240630T193000Z
DTSTAMP:20240517T193831Z
ORGANIZER;CN=Athelstan 1100:MAILTO:website@athelstan1100.co.uk
GEO:51.5835;-2.097
X-APPLE-STRUCTURED-LOCATION;VALUE=URI;X-ADDRESS=Cross Hayes\, Malmesbury\, 
 SN16 9BZ;X-APPLE-RADIUS=72;X-TITLE=Malmesbury Town Hall:51.5835;-2.097
END:VEVENT
END:VCALENDAR