BEGIN:VCALENDAR
VERSION:2.0
PRODID:Events Booking
BEGIN:VEVENT
UID:69ea7211244a7
SUMMARY:'Athelstan - A United Kingdom' - Live Performance!
DESCRIPTION:Athelstan – A United Kingdom is a unique live event\, perform
 ed inside the stunning beauty of Malmesbury Abbey. Told through the eyes o
 f the 12th century monk and England’s first historian\, William of Malme
 sbury\, this play with music is a vibrant mix of honour\, deceit\, loyalty
  and fierce battle. Witness the troubled rise of King Athelstan\, the devo
 tion of Aethelflaed\, the Lady of Mercia\, and the gladiator spirit of bol
 d warrior leaders\, all told with song and spectacle. This is Malmesbury
 ’s event\, a hand picked group of local actors\, singers and musicians\,
  working with a highly experienced writing\, directing and production team
 \, bringing alive the trials and tribulations of Anglo-Saxon life in a onc
 e-in-a-lifetime show.
 Running time is 50 minutes. Most spectators will b
 e standing (there is provision for those needing seating). Athelstan 1100 
 is proud that this very special occasion is free to attend. Admittance by 
 ticket only. Register now!
LOCATION:Gloucester St\, Malmesbury\, SN16 0AA
DTSTART:20240714T190000Z
DTSTAMP:20231130T141659Z
ORGANIZER;CN=Athelstan 1100:MAILTO:website@athelstan1100.co.uk
GEO:51.58467;-2.09834
X-APPLE-STRUCTURED-LOCATION;VALUE=URI;X-ADDRESS=Gloucester St\, Malmesbury\
 , SN16 0AA;X-APPLE-RADIUS=72;X-TITLE=Malmesbury Abbey:51.58467;-2.09834
END:VEVENT
END:VCALENDAR