BEGIN:VCALENDAR
VERSION:2.0
PRODID:Events Booking
BEGIN:VEVENT
UID:69eba67a75fb6
SUMMARY:The Athelstan and Malmesbury Guided Walk (2)
DESCRIPTION:Join a local history expert for a Guided Walk Around Anglo-Saxo
 n Malmesbury. Discover why Athelstan had a special relationship with our t
 own. Find out why Malmesbury became the most important Anglo-Saxon town in
  Wiltshire. Solve riddles\, see where Eilmer\, our flying monk\, landed an
 d walk in Anglo-Saxon footsteps. Our Guided Walk will take about 90 minute
 s and cover just over a mile. Book here and at Malmesbury Town and Tourist
  Information Centre. Walk ups welcome if spaces available. 
LOCATION:Cross Hayes\, Malmesbury\, SN16 9BZ
DTSTART:20240718T143000Z
DTSTAMP:20240709T043510Z
ORGANIZER;CN=Athelstan 1100:MAILTO:website@athelstan1100.co.uk
GEO:51.5835;-2.097
X-APPLE-STRUCTURED-LOCATION;VALUE=URI;X-ADDRESS=Cross Hayes\, Malmesbury\, 
 SN16 9BZ;X-APPLE-RADIUS=72;X-TITLE=Malmesbury Town Hall:51.5835;-2.097
END:VEVENT
END:VCALENDAR