BEGIN:VCALENDAR
VERSION:2.0
PRODID:Events Booking
BEGIN:VEVENT
UID:69eb50d0bd56a
SUMMARY:Walking: The Opening of the Athelstan Pilgrim Way
DESCRIPTION:Be the first to start walking the Athelstan Pilgrim Way! This i
 s the opening walk - a stroll from Malmesbury Abbey to Brokenborough Churc
 h. 
 Come yourself\, bring friends and family\, enjoy a lovely afternoon
  in the countryside.
 The walk will start at about 3:00pm from Cloister G
 ardens\, immediately after the Talk at 2:00pm in Malmesbury Abbey. It is f
 ree\, just turn up to join in.
 The Athelstan Pilgrim Way is a collection
  of walks linking 13 churches across North Wiltshire (with more to come in
  2025). There is lot's more information at the Athelstan Pilgrim Way web-s
 ite - www.athelstanpilgrimway.org 
  
LOCATION:Gloucester Street\, Malmesbury\, SN16 9AS England\, United Kingdom
DTSTART:20240630T151500Z
DTSTAMP:20240310T174932Z
ORGANIZER;CN=Athelstan 1100:MAILTO:website@athelstan1100.co.uk
GEO:51.58467;-2.098469
X-APPLE-STRUCTURED-LOCATION;VALUE=URI;X-ADDRESS=Gloucester Street\, Malmesb
 ury\, SN16 9AS England\, United Kingdom;X-APPLE-RADIUS=72;X-TITLE=Cloister
  Gardens:51.58467;-2.098469
END:VEVENT
END:VCALENDAR