BEGIN:VCALENDAR
VERSION:2.0
PRODID:Events Booking
BEGIN:VEVENT
UID:69e9727633a61
SUMMARY:Talk: Walking Gently: From Sacred Land to Storied Churches - Martin
  Palmer - Adult Tickets
DESCRIPTION:The Athelstan Pilgrim Way launches its 3rd &amp\; 4th sections 
 with a talk by Martin Palmer. The event also launches the Artist in Reside
 nce position held by Sheona Beaumont with a display of photographic work. 
 Following the talk\, there will be a short walk to St James the Great\, Da
 untsey. More details at www.athelstanpilgrimway.org.
 If you would like t
 o buy Children's Tickets (Age 12 and Under) please go to the Child Ticket 
 event listing.
 This event is being run by the Athelstan Pilgrim Way team
 .
 Martin Palmer is a writer\, environmentalist and broadcaster. He co-
 founded the internationally renowned Alliance of Religions and Conservatio
 n with HRH Prince Philip\, and is also the author of ‘Sacred Land’ (20
 12).
DTSTART:20250405T143000Z
DTSTAMP:20250303T095828Z
ORGANIZER;CN=Athelstan 1100:MAILTO:website@athelstan1100.co.uk
END:VEVENT
END:VCALENDAR