BEGIN:VCALENDAR
VERSION:2.0
PRODID:Events Booking
BEGIN:VEVENT
UID:69e9318b9970b
SUMMARY:Crown Making Workshop at The Three Cups
DESCRIPTION:Crown Making at The Three Cups. Get ready for the arrival of th
 e Anglo-Saxon Village at St Aldhelm's Mead on the 20th and 21st July. One 
 in a series of children's Saturday workshops with Make it Malmesbury. This
  workshop is free. Book at www.three-cups.co.uk
LOCATION:90 Triangle\, Malmesbury SN16 0AH
DTSTART:20240713T110000Z
DTSTAMP:20240709T061929Z
ORGANIZER;CN=Athelstan 1100:MAILTO:website@athelstan1100.co.uk
GEO:51.5858;-2.10146
X-APPLE-STRUCTURED-LOCATION;VALUE=URI;X-ADDRESS=90 Triangle\, Malmesbury SN
 16 0AH;X-APPLE-RADIUS=72;X-TITLE=The Three Cups:51.5858;-2.10146
END:VEVENT
END:VCALENDAR